BEGIN:VCALENDAR
VERSION:2.0
PRODID:-//hacksw/handcal//NONSGML v1.0//EN
BEGIN:VEVENT
SUMMARY:Meeting national de Moulins
UID:a9ec6025-fb01-4322-909c-77f2d889ff77
DTSTART:20260703T220000Z
DTEND:20260704T220000Z
LOCATION:Localisation   
CATEGORIES:Sportif
STATUS:
URL;VALUE=URI:https://eaccdompierre.sportsregions.fr/evenements/2026/07/04/meeting-national-de-moulins-2430608
END:VEVENT
END:VCALENDAR
