BEGIN:VCALENDAR
VERSION:2.0
PRODID:-//hacksw/handcal//NONSGML v1.0//EN
BEGIN:VEVENT
SUMMARY:Meeting thermal CJES a Vichy
UID:b73982bd-ac1b-4fcf-b9d2-0cde59d9d1a9
DTSTART:20260702T220000Z
DTEND:20260703T220000Z
LOCATION:Localisation   
CATEGORIES:Sportif
STATUS:
URL;VALUE=URI:https://eaccdompierre.sportsregions.fr/evenements/2026/07/03/meeting-thermal-cjes-a-vichy-2388913
END:VEVENT
END:VCALENDAR
