BEGIN:VCALENDAR
VERSION:2.0
PRODID:-//hacksw/handcal//NONSGML v1.0//EN
BEGIN:VEVENT
SUMMARY:Championnats AURA CJES a Parilly
UID:a41f879c-f82b-4ef0-bf4d-09f69f6bf285
DTSTART:20260626T220000Z
DTEND:20260628T220000Z
LOCATION:Localisation   
CATEGORIES:Sportif
STATUS:
URL;VALUE=URI:https://eaccdompierre.sportsregions.fr/evenements/2026/06/27/championnats-aura-cjes-a-parilly-2430604
END:VEVENT
END:VCALENDAR
