BEGIN:VCALENDAR
VERSION:2.0
PRODID:-//hacksw/handcal//NONSGML v1.0//EN
BEGIN:VEVENT
SUMMARY:Animation EA/PO a Vichy
UID:a92184e2-c9ef-4bf4-bfb0-8153fb470d36
DTSTART:20260626T220000Z
DTEND:20260627T220000Z
LOCATION:Localisation   
CATEGORIES:Sportif
STATUS:
URL;VALUE=URI:https://eaccdompierre.sportsregions.fr/evenements/2026/06/27/animation-eapo-a-vichy-2430602
END:VEVENT
END:VCALENDAR
