BEGIN:VCALENDAR
VERSION:2.0
PRODID:-//hacksw/handcal//NONSGML v1.0//EN
BEGIN:VEVENT
SUMMARY:Soiree triathlon a Vichy
UID:c4771d56-54cd-49ab-aca2-3f60b926fe8a
DTSTART:20260616T220000Z
DTEND:20260617T220000Z
LOCATION:Localisation   
CATEGORIES:Sportif
STATUS:
URL;VALUE=URI:https://eaccdompierre.sportsregions.fr/evenements/2026/06/17/soiree-triathlon-a-vichy-2430601
END:VEVENT
END:VCALENDAR
