BEGIN:VCALENDAR
VERSION:2.0
PRODID:-//hacksw/handcal//NONSGML v1.0//EN
BEGIN:VEVENT
SUMMARY:Championnat Loire et Volcans CJES a St-Etienne
UID:1337fb63-50c8-44c4-ab87-fb2c2fdfc9f7
DTSTART:20260613T220000Z
DTEND:20260614T220000Z
LOCATION:Localisation   
CATEGORIES:Sportif
STATUS:
URL;VALUE=URI:https://eaccdompierre.sportsregions.fr/evenements/2026/06/14/championnat-loire-et-volcans-cjes-a-st-etienne-2430596
END:VEVENT
END:VCALENDAR
