BEGIN:VCALENDAR
VERSION:2.0
PRODID:-//hacksw/handcal//NONSGML v1.0//EN
BEGIN:VEVENT
SUMMARY:La Bourbonnaise pour Elles
UID:9113e3bd-5cff-4997-8b84-7491fa92248f
DTSTART:20260530T220000Z
DTEND:20260531T220000Z
LOCATION:Localisation   
CATEGORIES:Sportif
STATUS:
URL;VALUE=URI:https://eaccdompierre.sportsregions.fr/evenements/2026/05/31/la-bourbonnaise-pour-elles-2433831
END:VEVENT
END:VCALENDAR
