BEGIN:VCALENDAR
VERSION:2.0
PRODID:-//hacksw/handcal//NONSGML v1.0//EN
BEGIN:VEVENT
SUMMARY:Championnats departementaux de la Nievre
UID:93357966-3b17-4949-b4f1-cee8aaa5ceb6
DTSTART:20260530T220000Z
DTEND:20260531T220000Z
LOCATION:Localisation   
CATEGORIES:Sportif
STATUS:
URL;VALUE=URI:https://eaccdompierre.sportsregions.fr/evenements/2026/05/31/championnats-departementaux-de-la-nievre-2430589
END:VEVENT
END:VCALENDAR
