BEGIN:VCALENDAR
VERSION:2.0
PRODID:-//hacksw/handcal//NONSGML v1.0//EN
BEGIN:VEVENT
SUMMARY:La Varunning a Varennes sur Allier
UID:0115243e-eb98-4f2e-8e17-ee8978acd51f
DTSTART:20260509T220000Z
DTEND:20260510T220000Z
LOCATION:Localisation   
CATEGORIES:Sportif
STATUS:
URL;VALUE=URI:https://eaccdompierre.sportsregions.fr/evenements/2026/05/10/la-varunning-a-varennes-sur-allier-2433830
END:VEVENT
END:VCALENDAR
