BEGIN:VCALENDAR
VERSION:2.0
PRODID:-//hacksw/handcal//NONSGML v1.0//EN
BEGIN:VEVENT
SUMMARY:1er Tour des Interclubs a Moulins
UID:7cbdae14-4abe-42b7-b98c-57428d0e1c21
DTSTART:20260502T220000Z
DTEND:20260503T220000Z
LOCATION:Localisation   
CATEGORIES:Sportif
STATUS:
URL;VALUE=URI:https://eaccdompierre.sportsregions.fr/evenements/2026/05/03/1er-tour-des-interclubs-a-moulins-2349277
END:VEVENT
END:VCALENDAR
