BEGIN:VCALENDAR
VERSION:2.0
PRODID:-//hacksw/handcal//NONSGML v1.0//EN
BEGIN:VEVENT
SUMMARY:Les Boucles de l'EACCD a Beaulon
UID:37333942-0ef6-4b61-a20f-819c26134354
DTSTART:20260403T220000Z
DTEND:20260404T220000Z
LOCATION:Localisation   
CATEGORIES:Sportif
STATUS:
URL;VALUE=URI:https://eaccdompierre.sportsregions.fr/evenements/2026/04/04/les-boucles-de-leaccd-a-beaulon-2228094
END:VEVENT
END:VCALENDAR
